BEGIN:VCALENDAR
VERSION:2.0
PRODID:-//Musikverein Kiebingen e.V. - ECPv6.15.18//NONSGML v1.0//EN
CALSCALE:GREGORIAN
METHOD:PUBLISH
X-WR-CALNAME:Musikverein Kiebingen e.V.
X-ORIGINAL-URL:https://www.musikverein-kiebingen.de
X-WR-CALDESC:Veranstaltungen für Musikverein Kiebingen e.V.
REFRESH-INTERVAL;VALUE=DURATION:PT1H
X-Robots-Tag:noindex
X-PUBLISHED-TTL:PT1H
BEGIN:VTIMEZONE
TZID:Europe/Berlin
BEGIN:DAYLIGHT
TZOFFSETFROM:+0100
TZOFFSETTO:+0200
TZNAME:CEST
DTSTART:20250330T010000
END:DAYLIGHT
BEGIN:STANDARD
TZOFFSETFROM:+0200
TZOFFSETTO:+0100
TZNAME:CET
DTSTART:20251026T010000
END:STANDARD
BEGIN:DAYLIGHT
TZOFFSETFROM:+0100
TZOFFSETTO:+0200
TZNAME:CEST
DTSTART:20260329T010000
END:DAYLIGHT
BEGIN:STANDARD
TZOFFSETFROM:+0200
TZOFFSETTO:+0100
TZNAME:CET
DTSTART:20261025T010000
END:STANDARD
BEGIN:DAYLIGHT
TZOFFSETFROM:+0100
TZOFFSETTO:+0200
TZNAME:CEST
DTSTART:20270328T010000
END:DAYLIGHT
BEGIN:STANDARD
TZOFFSETFROM:+0200
TZOFFSETTO:+0100
TZNAME:CET
DTSTART:20271031T010000
END:STANDARD
END:VTIMEZONE
BEGIN:VEVENT
DTSTART;TZID=Europe/Berlin:20260418T080000
DTEND;TZID=Europe/Berlin:20260418T120000
DTSTAMP:20260424T174331
CREATED:20260105T153822Z
LAST-MODIFIED:20260105T153914Z
UID:1153-1776499200-1776513600@www.musikverein-kiebingen.de
SUMMARY:Altpapier 3/4
DESCRIPTION:
URL:https://www.musikverein-kiebingen.de/termin/altpapier-3-4/
END:VEVENT
BEGIN:VEVENT
DTSTART;VALUE=DATE:20260406
DTEND;VALUE=DATE:20260407
DTSTAMP:20260424T174331
CREATED:20260105T153800Z
LAST-MODIFIED:20260105T153800Z
UID:1151-1775433600-1775519999@www.musikverein-kiebingen.de
SUMMARY:Eierlesen
DESCRIPTION:
URL:https://www.musikverein-kiebingen.de/termin/eierlesen/
END:VEVENT
BEGIN:VEVENT
DTSTART;TZID=Europe/Berlin:20260315T180000
DTEND;TZID=Europe/Berlin:20260315T220000
DTSTAMP:20260424T174331
CREATED:20260105T153744Z
LAST-MODIFIED:20260105T153744Z
UID:1149-1773597600-1773612000@www.musikverein-kiebingen.de
SUMMARY:Hauptversammlung
DESCRIPTION:
URL:https://www.musikverein-kiebingen.de/termin/hauptversammlung/
END:VEVENT
BEGIN:VEVENT
DTSTART;TZID=Europe/Berlin:20260307T080000
DTEND;TZID=Europe/Berlin:20260307T120000
DTSTAMP:20260424T174331
CREATED:20260105T153722Z
LAST-MODIFIED:20260105T153926Z
UID:1147-1772870400-1772884800@www.musikverein-kiebingen.de
SUMMARY:Altpapier 2/4
DESCRIPTION:
URL:https://www.musikverein-kiebingen.de/termin/altpapier-2-4/
END:VEVENT
BEGIN:VEVENT
DTSTART;VALUE=DATE:20260217
DTEND;VALUE=DATE:20260218
DTSTAMP:20260424T174331
CREATED:20260105T153654Z
LAST-MODIFIED:20260105T153707Z
UID:1145-1771286400-1771372799@www.musikverein-kiebingen.de
SUMMARY:Spielen durch's Dorf / Umzug der Eierleser / Kinderball
DESCRIPTION:
URL:https://www.musikverein-kiebingen.de/termin/spielen-durchs-dorf-umzug-der-eierleser-kinderball/
END:VEVENT
BEGIN:VEVENT
DTSTART;VALUE=DATE:20260215
DTEND;VALUE=DATE:20260216
DTSTAMP:20260424T174331
CREATED:20260105T153634Z
LAST-MODIFIED:20260105T153634Z
UID:1143-1771113600-1771199999@www.musikverein-kiebingen.de
SUMMARY:Ommzug Rottenburg
DESCRIPTION:
URL:https://www.musikverein-kiebingen.de/termin/ommzug-rottenburg/
END:VEVENT
BEGIN:VEVENT
DTSTART;TZID=Europe/Berlin:20260124T080000
DTEND;TZID=Europe/Berlin:20260124T120000
DTSTAMP:20260424T174331
CREATED:20260105T153617Z
LAST-MODIFIED:20260105T153617Z
UID:1141-1769241600-1769256000@www.musikverein-kiebingen.de
SUMMARY:Altpapiersammlung 1/4
DESCRIPTION:
URL:https://www.musikverein-kiebingen.de/termin/altpapiersammlung-1-4/
END:VEVENT
END:VCALENDAR